BEGIN:VCALENDAR
VERSION:2.0
PRODID:-//https://questnet2018.net.au//NONSGML kigkonsult.se iCalcreator 2.
 22//
X-WR-TIMEZONE:Australia/Brisbane
BEGIN:VEVENT
UID:20180920T093608UTC-14907a2TU3@https://questnet2018.net.au
DTSTAMP:20180920T093608Z
DESCRIPTION:
DTSTART;TZID=Australia/Brisbane:20180926T111500
DTEND;TZID=Australia/Brisbane:20180926T113000
LOCATION:Michaelmas Cay Ballroom
SUMMARY:Welcome and Official Opening
END:VEVENT
END:VCALENDAR
