BEGIN:VCALENDAR
VERSION:2.0
PRODID:-//https://questnet2018.net.au//NONSGML kigkonsult.se iCalcreator 2.
 22//
X-WR-TIMEZONE:Australia/Brisbane
BEGIN:VEVENT
UID:20180920T093733UTC-8940K1eulj@https://questnet2018.net.au
DTSTAMP:20180920T093733Z
DESCRIPTION:
DTSTART;TZID=Australia/Brisbane:20180926T173000
DTEND;TZID=Australia/Brisbane:20180926T193000
LOCATION:Exhibition Area
SUMMARY:Welcome Reception
END:VEVENT
END:VCALENDAR
