BEGIN:VCALENDAR
VERSION:2.0
PRODID:-//https://questnet2018.net.au//NONSGML kigkonsult.se iCalcreator 2.
 22//
X-WR-TIMEZONE:Australia/Brisbane
BEGIN:VEVENT
UID:20180920T093630UTC-7117V6i45M@https://questnet2018.net.au
DTSTAMP:20180920T093630Z
DESCRIPTION:\n							Louise Brosnan – University of Southern Queensland							\n						
DTSTART;TZID=Australia/Brisbane:20180926T140000
DTEND;TZID=Australia/Brisbane:20180926T143000
LOCATION:Urchins Room 3
SUMMARY:Tough Success: Using technology discussions to create organisationa
 l change
END:VEVENT
END:VCALENDAR
