BEGIN:VCALENDAR
VERSION:2.0
PRODID:-//https://questnet2018.net.au//NONSGML kigkonsult.se iCalcreator 2.
 22//
X-WR-TIMEZONE:Australia/Brisbane
BEGIN:VEVENT
UID:20180920T093634UTC-7605EtcZgz@https://questnet2018.net.au
DTSTAMP:20180920T093634Z
DESCRIPTION:\n							Peter Vanheck – CQUniversity							\n						
DTSTART;TZID=Australia/Brisbane:20180926T143000
DTEND;TZID=Australia/Brisbane:20180926T150000
LOCATION:Reef Room
SUMMARY:Technically\, this is what Federal Law looks like!
END:VEVENT
END:VCALENDAR
