BEGIN:VCALENDAR
VERSION:2.0
PRODID:-//https://questnet2018.net.au//NONSGML kigkonsult.se iCalcreator 2.
 22//
X-WR-TIMEZONE:Australia/Brisbane
BEGIN:VEVENT
UID:20180920T093711UTC-7451gFV0mL@https://questnet2018.net.au
DTSTAMP:20180920T093711Z
DESCRIPTION:\n							Clinton Bell – University of Southern Queensland							\n						
DTSTART;TZID=Australia/Brisbane:20180926T160000
DTEND;TZID=Australia/Brisbane:20180926T163000
LOCATION:Urchins Room 3
SUMMARY:Partnering with vendors for agility and success
END:VEVENT
END:VCALENDAR
