BEGIN:VCALENDAR
VERSION:2.0
PRODID:-//https://questnet2018.net.au//NONSGML kigkonsult.se iCalcreator 2.
 22//
X-WR-TIMEZONE:Australia/Brisbane
BEGIN:VEVENT
UID:20180920T093612UTC-1315u0OJuu@https://questnet2018.net.au
DTSTAMP:20180920T093612Z
DESCRIPTION:\n							Dr Michelle Dickinson – Nanogirl Labs							\n						
DTSTART;TZID=Australia/Brisbane:20180926T113000
DTEND;TZID=Australia/Brisbane:20180926T123000
LOCATION:Michaelmas Cay Ballroom
SUMMARY:Keynote Presentation - Re-Wiring for the future
END:VEVENT
END:VCALENDAR
