BEGIN:VCALENDAR
VERSION:2.0
PRODID:-//https://questnet2018.net.au//NONSGML kigkonsult.se iCalcreator 2.
 22//
X-WR-TIMEZONE:Australia/Brisbane
BEGIN:VEVENT
UID:20180920T093624UTC-6522b856BR@https://questnet2018.net.au
DTSTAMP:20180920T093624Z
DESCRIPTION:\n							Catherine Tan – Griffith University							\n						
DTSTART;TZID=Australia/Brisbane:20180926T140000
DTEND;TZID=Australia/Brisbane:20180926T143000
LOCATION:Michaelmas Cay Ballroom
SUMMARY:Journey to Hybrid Cloud – Azure Backup and its adoption
END:VEVENT
END:VCALENDAR
