BEGIN:VCALENDAR
VERSION:2.0
PRODID:-//https://questnet2018.net.au//NONSGML kigkonsult.se iCalcreator 2.
 22//
X-WR-TIMEZONE:Australia/Brisbane
BEGIN:VEVENT
UID:20180920T093643UTC-5618FOTwdv@https://questnet2018.net.au
DTSTAMP:20180920T093643Z
DESCRIPTION:\n							Julie Land – James Cook University							\n						
DTSTART;TZID=Australia/Brisbane:20180926T143000
DTEND;TZID=Australia/Brisbane:20180926T150000
LOCATION:Urchins Room 3
SUMMARY:James Cook University’s journey with ServiceNow
END:VEVENT
END:VCALENDAR
