BEGIN:VCALENDAR
VERSION:2.0
PRODID:-//https://questnet2018.net.au//NONSGML kigkonsult.se iCalcreator 2.
 22//
X-WR-TIMEZONE:Australia/Brisbane
BEGIN:VEVENT
UID:20180920T093638UTC-7106TvLK2S@https://questnet2018.net.au
DTSTAMP:20180920T093638Z
DESCRIPTION:\n							Andrew Slapp – DXC Technology							\n						\, \n							Sam Field – Curtin Univer
 sity							\n						
DTSTART;TZID=Australia/Brisbane:20180926T143000
DTEND;TZID=Australia/Brisbane:20180926T150000
LOCATION:Michaelmas Cay Ballroom
SUMMARY:Enabling a Smart Campus through video\, IoT and AI
END:VEVENT
END:VCALENDAR
