BEGIN:VCALENDAR
VERSION:2.0
PRODID:-//https://questnet2018.net.au//NONSGML kigkonsult.se iCalcreator 2.
 22//
X-WR-TIMEZONE:Australia/Brisbane
BEGIN:VEVENT
UID:20180920T093119UTC-5607Bu9PsR@https://questnet2018.net.au
DTSTAMP:20180920T093119Z
DESCRIPTION:\n							Mark Simpson – DXC Technology							\n						
DTSTART;TZID=Australia/Brisbane:20180927T080000
DTEND;TZID=Australia/Brisbane:20180927T090000
LOCATION:Coral Lounge
SUMMARY:DXC Technology Sponsored Breakfast
END:VEVENT
END:VCALENDAR
