BEGIN:VCALENDAR
VERSION:2.0
PRODID:-//https://questnet2018.net.au//NONSGML kigkonsult.se iCalcreator 2.
 22//
X-WR-TIMEZONE:Australia/Brisbane
BEGIN:VEVENT
UID:20180920T093619UTC-5252vJSFL4@https://questnet2018.net.au
DTSTAMP:20180920T093619Z
DESCRIPTION:\n							Connie McIntosh – University of the Sunshine Coast							\n						
DTSTART;TZID=Australia/Brisbane:20180926T140000
DTEND;TZID=Australia/Brisbane:20180926T143000
LOCATION:Reef Room
SUMMARY:Click Click Boom –  how USC is using Mimecast to overcome click hap
 py user security breaches
END:VEVENT
END:VCALENDAR
