BEGIN:VCALENDAR
VERSION:2.0
PRODID:-//https://questnet2018.net.au//NONSGML kigkonsult.se iCalcreator 2.
 22//
X-WR-TIMEZONE:Australia/Brisbane
BEGIN:VEVENT
UID:20180920T093116UTC-1427tV8knd@https://questnet2018.net.au
DTSTAMP:20180920T093116Z
DESCRIPTION:\n							Brad Davies – Vector Consulting							\n						\, \n							Warwick Calkin – Univer
 sity of Western Australia							\n						
DTSTART;TZID=Australia/Brisbane:20180927T080000
DTEND;TZID=Australia/Brisbane:20180927T090000
LOCATION:Urchins Room 3
SUMMARY:Cisco Systems Sponsored Breakfast
END:VEVENT
END:VCALENDAR
