BEGIN:VCALENDAR
VERSION:2.0
PRODID:-//https://questnet2018.net.au//NONSGML kigkonsult.se iCalcreator 2.
 22//
X-WR-TIMEZONE:Australia/Brisbane
BEGIN:VEVENT
UID:20180920T093650UTC-24986DZAuA@https://questnet2018.net.au
DTSTAMP:20180920T093650Z
DESCRIPTION:\n							James Sankar – AARNet							\n						
DTSTART;TZID=Australia/Brisbane:20180926T150000
DTEND;TZID=Australia/Brisbane:20180926T153000
LOCATION:Michaelmas Cay Ballroom
SUMMARY:Campus\, data centre & cloud networks. Utilising AARNet better
END:VEVENT
END:VCALENDAR
