BEGIN:VCALENDAR
VERSION:2.0
PRODID:-//https://questnet2018.net.au//NONSGML kigkonsult.se iCalcreator 2.
 22//
X-WR-TIMEZONE:Australia/Brisbane
BEGIN:VEVENT
UID:20180920T093702UTC-0374TaOCVs@https://questnet2018.net.au
DTSTAMP:20180920T093702Z
DESCRIPTION:\n							Nick Soysa – AusCERT							\n						
DTSTART;TZID=Australia/Brisbane:20180926T160000
DTEND;TZID=Australia/Brisbane:20180926T163000
LOCATION:Reef Room
SUMMARY:AusCERT HE-ISAC – from Concept to Creation
END:VEVENT
END:VCALENDAR
