BEGIN:VCALENDAR
VERSION:2.0
PRODID:-//https://questnet2018.net.au//NONSGML kigkonsult.se iCalcreator 2.
 22//
X-WR-TIMEZONE:Australia/Brisbane
BEGIN:VEVENT
UID:20180920T093646UTC-7441Ucflbs@https://questnet2018.net.au
DTSTAMP:20180920T093646Z
DESCRIPTION:\n							Don Mackintosh – AARNet							\n						
DTSTART;TZID=Australia/Brisbane:20180926T150000
DTEND;TZID=Australia/Brisbane:20180926T153000
LOCATION:Reef Room
SUMMARY:Allowing end users to efficiently access products and services secu
 rely
END:VEVENT
END:VCALENDAR
